BEGIN:VCALENDAR
VERSION:2.0
PRODID:-//Missouri Society, SAR - ECPv6.15.20//NONSGML v1.0//EN
CALSCALE:GREGORIAN
METHOD:PUBLISH
X-WR-CALNAME:Missouri Society, SAR
X-ORIGINAL-URL:https://mossar.org
X-WR-CALDESC:Events for Missouri Society, SAR
REFRESH-INTERVAL;VALUE=DURATION:PT1H
X-Robots-Tag:noindex
X-PUBLISHED-TTL:PT1H
BEGIN:VTIMEZONE
TZID:America/Chicago
BEGIN:DAYLIGHT
TZOFFSETFROM:-0600
TZOFFSETTO:-0500
TZNAME:CDT
DTSTART:20250309T080000
END:DAYLIGHT
BEGIN:STANDARD
TZOFFSETFROM:-0500
TZOFFSETTO:-0600
TZNAME:CST
DTSTART:20251102T070000
END:STANDARD
BEGIN:DAYLIGHT
TZOFFSETFROM:-0600
TZOFFSETTO:-0500
TZNAME:CDT
DTSTART:20260308T080000
END:DAYLIGHT
BEGIN:STANDARD
TZOFFSETFROM:-0500
TZOFFSETTO:-0600
TZNAME:CST
DTSTART:20261101T070000
END:STANDARD
BEGIN:DAYLIGHT
TZOFFSETFROM:-0600
TZOFFSETTO:-0500
TZNAME:CDT
DTSTART:20270314T080000
END:DAYLIGHT
BEGIN:STANDARD
TZOFFSETFROM:-0500
TZOFFSETTO:-0600
TZNAME:CST
DTSTART:20271107T070000
END:STANDARD
END:VTIMEZONE
BEGIN:VEVENT
DTSTART;TZID=America/Chicago:20260325T130000
DTEND;TZID=America/Chicago:20260325T150000
DTSTAMP:20260421T091122
CREATED:20260222T173615Z
LAST-MODIFIED:20260223T012831Z
UID:5799-1774443600-1774450800@mossar.org
SUMMARY:National Medal of Honor Day
DESCRIPTION:Event: National Medal of Honor Day \nDate:  Wednesday\, March 25\, 2026 \nMuster Call:  11:45 AM \nEvent Time:     1:00 PM \nLocation:  Harry S Truman Museum and Library\, 500 W US-24\, Independence MO 64050 \n \nPOC: Ivan Stull  \nCG Commander POC: 
URL:https://mossar.org/event/national-medal-of-honor-day/
LOCATION:Harry S. Truman Museum and Library\, 500 W US-24\, Independence\, MO\, 64050\, United States
CATEGORIES:Color Guard Event
ATTACH;FMTTYPE=image/jpeg:https://mossar.org/wp-content/uploads/2026/02/medal-of-honor-3121876203.jpg
END:VEVENT
BEGIN:VEVENT
DTSTART;TZID=America/Chicago:20260328T130000
DTEND;TZID=America/Chicago:20260328T160000
DTSTAMP:20260421T091122
CREATED:20260211T135623Z
LAST-MODIFIED:20260211T135954Z
UID:5781-1774702800-1774713600@mossar.org
SUMMARY:Genealogy Seminar
DESCRIPTION:Genealogy Seminar \n \nRegister Here:  https://slcl.org/events-classes
URL:https://mossar.org/event/genealogy-seminar/
LOCATION:Clark Family Branch Library – St. Louis\, 1640 S. Lindburgh Blvd\, St. Louis\, MO\, 63131\, United States
END:VEVENT
END:VCALENDAR