BEGIN:VCALENDAR
VERSION:2.0
PRODID:-//Missouri Society, SAR - ECPv6.15.20//NONSGML v1.0//EN
CALSCALE:GREGORIAN
METHOD:PUBLISH
X-ORIGINAL-URL:https://mossar.org
X-WR-CALDESC:Events for Missouri Society, SAR
REFRESH-INTERVAL;VALUE=DURATION:PT1H
X-Robots-Tag:noindex
X-PUBLISHED-TTL:PT1H
BEGIN:VTIMEZONE
TZID:America/Chicago
BEGIN:DAYLIGHT
TZOFFSETFROM:-0600
TZOFFSETTO:-0500
TZNAME:CDT
DTSTART:20230312T080000
END:DAYLIGHT
BEGIN:STANDARD
TZOFFSETFROM:-0500
TZOFFSETTO:-0600
TZNAME:CST
DTSTART:20231105T070000
END:STANDARD
BEGIN:DAYLIGHT
TZOFFSETFROM:-0600
TZOFFSETTO:-0500
TZNAME:CDT
DTSTART:20240310T080000
END:DAYLIGHT
BEGIN:STANDARD
TZOFFSETFROM:-0500
TZOFFSETTO:-0600
TZNAME:CST
DTSTART:20241103T070000
END:STANDARD
BEGIN:DAYLIGHT
TZOFFSETFROM:-0600
TZOFFSETTO:-0500
TZNAME:CDT
DTSTART:20250309T080000
END:DAYLIGHT
BEGIN:STANDARD
TZOFFSETFROM:-0500
TZOFFSETTO:-0600
TZNAME:CST
DTSTART:20251102T070000
END:STANDARD
END:VTIMEZONE
BEGIN:VEVENT
DTSTART;TZID=America/Chicago:20241102T103000
DTEND;TZID=America/Chicago:20241102T123000
DTSTAMP:20260422T175314
CREATED:20241014T134511Z
LAST-MODIFIED:20241014T154759Z
UID:4656-1730543400-1730550600@mossar.org
SUMMARY:America 250 Sons of the American Revolution Patriot Grave Marking for Isham Reavis 1748 - 1829
DESCRIPTION:America 250 Sons of the American Revolution \nPatriot Grave Marking for \nIsham Reavis 1748 – 1829 \n   \nDownload Flyer Here \nGraveMarkingFlyer
URL:https://mossar.org/event/america-250-sons-of-the-american-revolution-patriot-grave-marking-for-isham-reavis-1748-1829/
LOCATION:Fairview Cemetery\, Sweet Springs\, MO\, United States
END:VEVENT
BEGIN:VEVENT
DTSTART;TZID=America/Chicago:20241110T133000
DTEND;TZID=America/Chicago:20241110T160000
DTSTAMP:20260422T175314
CREATED:20241016T175355Z
LAST-MODIFIED:20241016T175756Z
UID:4665-1731245400-1731254400@mossar.org
SUMMARY:Veterans Day Service and Wreath Laying Ceremony
DESCRIPTION:The St. Louis-Jefferson ChapterNational Society Daughters of the American RevolutionCordially invite you to our\nVeterans Day Service and Wreath Laying Ceremony\n \nSunday\, November 10\, 2024Bellfontaine Cemetery and ArboretumHotchkiss Chapel Plaza4947 West Florissant AvenueSt. Louis\, Missouri  63115\n  \n\n1:40 PM CST:         John Ford Highland Pipe Band  2:00 PM CST:         Color Guard and CeremonyGuest Speaker:      MSgt. Brooke Alf   3:00 PM CST:         Taps and Musket Salute\n  \n\n\nReception Following to Honor all VeteransOutdoor Event
URL:https://mossar.org/event/veterans-day-service-and-wreath-laying-ceremony/
LOCATION:Bellfontaine Cemetery\, 4947 West Florissant Avenue\, St. Louis\, MO\, 63115\, United States
ATTACH;FMTTYPE=image/webp:https://mossar.org/wp-content/uploads/2024/08/6adc58_16419921aa3845fb876c8bda713eeef5mv2.webp
END:VEVENT
END:VCALENDAR