BEGIN:VCALENDAR
VERSION:2.0
PRODID:-//Missouri Society, SAR - ECPv6.15.20//NONSGML v1.0//EN
CALSCALE:GREGORIAN
METHOD:PUBLISH
X-WR-CALNAME:Missouri Society, SAR
X-ORIGINAL-URL:https://mossar.org
X-WR-CALDESC:Events for Missouri Society, SAR
REFRESH-INTERVAL;VALUE=DURATION:PT1H
X-Robots-Tag:noindex
X-PUBLISHED-TTL:PT1H
BEGIN:VTIMEZONE
TZID:America/Chicago
BEGIN:DAYLIGHT
TZOFFSETFROM:-0600
TZOFFSETTO:-0500
TZNAME:CDT
DTSTART:20230312T080000
END:DAYLIGHT
BEGIN:STANDARD
TZOFFSETFROM:-0500
TZOFFSETTO:-0600
TZNAME:CST
DTSTART:20231105T070000
END:STANDARD
BEGIN:DAYLIGHT
TZOFFSETFROM:-0600
TZOFFSETTO:-0500
TZNAME:CDT
DTSTART:20240310T080000
END:DAYLIGHT
BEGIN:STANDARD
TZOFFSETFROM:-0500
TZOFFSETTO:-0600
TZNAME:CST
DTSTART:20241103T070000
END:STANDARD
BEGIN:DAYLIGHT
TZOFFSETFROM:-0600
TZOFFSETTO:-0500
TZNAME:CDT
DTSTART:20250309T080000
END:DAYLIGHT
BEGIN:STANDARD
TZOFFSETFROM:-0500
TZOFFSETTO:-0600
TZNAME:CST
DTSTART:20251102T070000
END:STANDARD
END:VTIMEZONE
BEGIN:VEVENT
DTSTART;VALUE=DATE:20240927
DTEND;VALUE=DATE:20240930
DTSTAMP:20260422T170245
CREATED:20240703T162742Z
LAST-MODIFIED:20240912T182130Z
UID:2435-1727395200-1727654399@mossar.org
SUMMARY:The American Revolutionary War in the West Conference II
DESCRIPTION:  \n\nThe St. Charles County Historical Society\, the Saint Charles Chapter of the Daughters of the American Revolution\, the Fernando de Leyba Chapter of the Sons of the American Revolution\, the España Chapter of the Daughters of the American Revolution\, and the Mary Hempstead Lisa Chapter of the Daughters of the American Revolution will present a second American Revolutionary War in the West History Conference during September 27–29\, 2024 at the Sheraton Westport Plaza Hotel\, St. Louis County\, Missouri. This conference will focus on the military\, political\, social and material culture history of the western theater of the American Revolutionary War\, but will include a few other topics requested last year\, featuring scholars from across the country and from Spain.\n\n\nWHERE:  Sheraton Westport Plaza Hotel\, 900 Westport Plaza\, St. Louis\, MO 63146\n\nDATE:     September 27-29\, 2024\n\n\n\n–\n\n\n\n\nDownload Registration Form Hereor\, REGISTER ONLINE NOW!\nBook Your Group/Corporate Rate | Marriott International\n\n** Please allow up to 14 days for receipt of your confirmation email\, as we are only open three days per week.
URL:https://mossar.org/event/the-american-revolutionary-war-in-the-west-conference-ii/
LOCATION:Sheraton Westport Plaza HOtel\, 900 Westport Plaza\, St. Louis\, MO\, 63146\, United States
ATTACH;FMTTYPE=image/png:https://mossar.org/wp-content/uploads/2024/07/ARWW-Conference-II-header.png
END:VEVENT
BEGIN:VEVENT
DTSTART;TZID=America/Chicago:20240823T150000
DTEND;TZID=America/Chicago:20240824T170000
DTSTAMP:20260422T170245
CREATED:20240725T174713Z
LAST-MODIFIED:20240725T175034Z
UID:3066-1724425200-1724518800@mossar.org
SUMMARY:SAR-South Central District Annual Meeting
DESCRIPTION:Friday Afternoon\, August 23\, through Saturday Morning\, August 24\, 2024\nIn historic Joplin\, Missouri.\n• Plan to arrive before 3 pm and get your credentials at the hotel.\n• Attend the Dedication Ceremony of a Liberty Tree in King Jack Park.\n• Enjoy Joplin and socialize for dinner.\n• Attend a Candidates Forum in the Community Room of Joplin Library\n• Breakfast followed by SCD Business Meeting on Saturday morning. \nPlease use the link below to make your room reservation with the Holiday Inn Hotel\nconveniently located near the intersection of Interstate Highways 44 & 49. For\nNational guests who wish to fly into Joplin\, there are daily direct United flights from\nDenver and Chicago. \nHoliday Inn Hotel Joplin \nThe booking link will take you to the IHG main site. You will just hit ‘book now’ and\nenter the dates\, and your SCD rate group code is SAR. You may book early and late\nat the same rate. \nClick here to go to the Holiday Inn Hotel Joplin site. \nSouth Central District Meeting 240823–24 Flyer
URL:https://mossar.org/event/sar-south-central-district-annual-meeting/
LOCATION:Holiday Inn-Joplin\, MO\, 3402 Arizona Avenue\, Joplin\, MO\, 64804\, United States
CATEGORIES:Meeting
ORGANIZER;CN="James Osbourn%2C Vice-President%2C SAR SCD":MAILTO:jeo@subon.lib.mo.us
END:VEVENT
END:VCALENDAR