BEGIN:VCALENDAR
VERSION:2.0
PRODID:-//Missouri Society, SAR - ECPv6.15.20//NONSGML v1.0//EN
CALSCALE:GREGORIAN
METHOD:PUBLISH
X-ORIGINAL-URL:https://mossar.org
X-WR-CALDESC:Events for Missouri Society, SAR
REFRESH-INTERVAL;VALUE=DURATION:PT1H
X-Robots-Tag:noindex
X-PUBLISHED-TTL:PT1H
BEGIN:VTIMEZONE
TZID:America/Chicago
BEGIN:DAYLIGHT
TZOFFSETFROM:-0600
TZOFFSETTO:-0500
TZNAME:CDT
DTSTART:20240310T080000
END:DAYLIGHT
BEGIN:STANDARD
TZOFFSETFROM:-0500
TZOFFSETTO:-0600
TZNAME:CST
DTSTART:20241103T070000
END:STANDARD
BEGIN:DAYLIGHT
TZOFFSETFROM:-0600
TZOFFSETTO:-0500
TZNAME:CDT
DTSTART:20250309T080000
END:DAYLIGHT
BEGIN:STANDARD
TZOFFSETFROM:-0500
TZOFFSETTO:-0600
TZNAME:CST
DTSTART:20251102T070000
END:STANDARD
BEGIN:DAYLIGHT
TZOFFSETFROM:-0600
TZOFFSETTO:-0500
TZNAME:CDT
DTSTART:20260308T080000
END:DAYLIGHT
BEGIN:STANDARD
TZOFFSETFROM:-0500
TZOFFSETTO:-0600
TZNAME:CST
DTSTART:20261101T070000
END:STANDARD
BEGIN:DAYLIGHT
TZOFFSETFROM:-0600
TZOFFSETTO:-0500
TZNAME:CDT
DTSTART:20270314T080000
END:DAYLIGHT
BEGIN:STANDARD
TZOFFSETFROM:-0500
TZOFFSETTO:-0600
TZNAME:CST
DTSTART:20271107T070000
END:STANDARD
END:VTIMEZONE
BEGIN:VEVENT
DTSTART;VALUE=DATE:20250227
DTEND;VALUE=DATE:20250302
DTSTAMP:20260422T175607
CREATED:20240807T183954Z
LAST-MODIFIED:20241009T124025Z
UID:3391-1740614400-1740873599@mossar.org
SUMMARY:NSSAR Spring Leadership
DESCRIPTION:NSSAR Spring Leadership Conference \nLouisville\, Kentucky
URL:https://mossar.org/event/nssar-spring-leadership/
LOCATION:MO
ATTACH;FMTTYPE=image/jpeg:https://mossar.org/wp-content/uploads/2023/05/SAR-Logo-Design-on-White-BackGround.jpg
END:VEVENT
BEGIN:VEVENT
DTSTART;VALUE=DATE:20250425
DTEND;VALUE=DATE:20250427
DTSTAMP:20260422T175607
CREATED:20250201T173008Z
LAST-MODIFIED:20250216T223532Z
UID:4839-1745539200-1745711999@mossar.org
SUMMARY:2025 Missouri Society Convention Registration
DESCRIPTION:To: Compatriots\, Prospective Members\,and Guests of Fernando de Leyba Chapter: \nAll\, \nIt is indeed my pleasure to forward you the registration form for the April 25th-26th\,2025 Missouri Society SAR Convention. \nAlso included are hotel reservation instructions. Please note when you click the link all you have to do is put meeting dates for your stay and the special rate will populate.  The deadline for hotel reservations with the discount is April 1st\, so get your reservations in early. \nSecondly\, we need to know your food choices by April 7th. \nBoth of the due dates above are very firm? so please get your reservations in EARLY! \nWe have scheduled two workshops for Friday afternoon\, so plan to arrive early as well. First\, will be DAR St. Charles Chapter Genealogist Patti Dickherber.  Second\, Stephen Kling will speak about Lafayette’s Tour and Visit to St. Louis and Kaskaskia. \n \n  \nOur Friday night keynote speaker will be Julien Icher\, of The Lafayette Trail\, Inc\, and he will highlight the accomplishments so far\, as well as preparing us for the installation of the Wayside Marker on Saturday afternoon.  The Lafayette Trail\, Inc. \nAs a choice on Saturday afternoon\, there will also be a tour of the St. Charles Heritage Museum. \nDownload Convention Registration Here \n2025 Registration Convention \nDownload Hotel Registration Here \n2025 Hotel Registration MOSSAR Convention \nAll of these should be very enjoyable. \nWe are very excited at Fernando de Leyba Chapter to be this year’s host. \nFraternally\, \nDan \nDaniel R. Evans Jr.\, State Secretary\, Missouri Society of the Sons of the American Revolution\nSecretary/Treasurer\, Fernando de Leyba Chapter\, St. Charles\, Missouri \nCurrent Lafayette Trail Markers\n \n  \n  \n  \n 
URL:https://mossar.org/event/2025-missouri-society-convention-registration/
LOCATION:Holiday Inn-Riverport\, 3400 Rider Trail South\, Earth City\, MO\, 63045\, United States
CATEGORIES:Meeting
ATTACH;FMTTYPE=image/png:https://mossar.org/wp-content/uploads/2025/02/Lafayette.png
ORGANIZER;CN="Fernando de Leyba Chapter%2C MOSSAR":MAILTO:sar-cannoneer@sarfdl.org
END:VEVENT
BEGIN:VEVENT
DTSTART;TZID=America/Chicago:20250426T130000
DTEND;TZID=America/Chicago:20250426T153000
DTSTAMP:20260422T175607
CREATED:20250205T161134Z
LAST-MODIFIED:20250205T161134Z
UID:4863-1745672400-1745681400@mossar.org
SUMMARY:MOSSAR State Conference 200th Anniversary Lafayette Visit Monument unveiling/dedication
DESCRIPTION:Host Chapter Fernando De Leyba St. Charles \nSaturday April 26\, 2025 1 PM till 3:30 including roundtrip travel and 1 hour ceremony \nImmediately following the MOSSAR business meeting motor to commemorative site. \nDepart 1:30 from:\nHoliday Inn Earth City\n3400 S. Ryder Trail \nEarth City\, MO  63045 \nArrive 2:00 at commemorative site. All free parking\nBellerive City Park\n5570 S. Broadway\nAt. Louis\, MO  63111 \nAssemble at monument for start of ceremony. \nUnveil MOSSAR monument for 200th Anniversary Farewell Lafayette 1825 visit where he overnighted here in Carondelet during a tour of the existing 24 states. \n(Missouri was the 24th and newest state in 1825 during Lafayette’s visit) \nSpeakers in no particular order currently: \nSAR & DAR\, Carondelet Historical Society\, Lafayette Society\, Host Ward City Alderman \nMusket Salute MOSSAR over the Mississippi River bluff of Bellerive Park. \nPictures \nDepart 3:00 back to Conference Hotel \nArrive 3:30 back at Earth City Holiday Inn in time to resume business meeting if needed and ready for evening Banquet \nCompatriots of the Missouri Society Sons of the American Revolution
URL:https://mossar.org/event/mossar-state-conference-200th-anniversary-lafayette-visit-monument-unveiling-dedication/
LOCATION:Bellerive Park\, 5570 S. Broadway\, St. Louis\, MO\, 63111\, United States
CATEGORIES:Color Guard Event
ORGANIZER;CN="Fernando de Leyba Chapter%2C MOSSAR":MAILTO:sar-cannoneer@sarfdl.org
END:VEVENT
BEGIN:VEVENT
DTSTART;TZID=America/Chicago:20250525T080000
DTEND;TZID=America/Chicago:20250525T170000
DTSTAMP:20260422T175607
CREATED:20240923T163258Z
LAST-MODIFIED:20250525T121131Z
UID:4591-1748160000-1748192400@mossar.org
SUMMARY:Battle of Fort San Carlos Festival and Grave Marking
DESCRIPTION:2025 Battle of Fort San Carlos Festival and Grave Marking\n  \n \nIf you have not already Pre-Registered:\nRegistration starts at 11:30AM at Event Today!\nThis is a National SAR Color Guard Event \n \n*Be sure to Register and be sure that Color Guard Members firing Muskets have a current Color Guard Participation – Waiver & Release of Liability for the Year of 1 Jan – 31 Dec\, 2025 on file with the Missouri Society SAR Color Guard Commander. \nDownload this Waiver Form Here \n* If you prefer\, you may download the registration form here and mail to: \n2025 Battle of San Carlos Festival and Grave Marking\n17432 Hilltop Ridge Dr\nEureka\, MO  63025 \n \nDownload Flyer Here\n  \n\n\n\n\nDonations are optional.  But\, The Online Registration Form has several options.  Or\, use the QR Code below to go to Paypal and make a donation via Cellphone.
URL:https://mossar.org/event/battle-of-fort-san-carlos-festival-and-grave-marking/
LOCATION:Memorial Cemetery\, 35 N 5th St\, Ste. Genevieve\, MO\, 63670\, United States
ORGANIZER;CN="MOSSAR":MAILTO:san-cannoneer@sarfdl.org
END:VEVENT
BEGIN:VEVENT
DTSTART;TZID=America/Chicago:20250526T093000
DTEND;TZID=America/Chicago:20250526T140000
DTSTAMP:20260422T175607
CREATED:20250515T195500Z
LAST-MODIFIED:20250515T195500Z
UID:5117-1748251800-1748268000@mossar.org
SUMMARY:Memorial Day Service
DESCRIPTION:Cold Water Cemetery\n15290 Old Halls Ferry Rd\, Florissant\, MO 63034\n\nMonday\, May 26\, 2025\n10:00AM\n 
URL:https://mossar.org/event/memorial-day-service/
LOCATION:Cold Water Cemetery\, 15290 Old Halls Ferry Rd\, Florissant\, MO\, 63034\, United States
END:VEVENT
BEGIN:VEVENT
DTSTART;TZID=America/Chicago:20250816T100000
DTEND;TZID=America/Chicago:20250816T120000
DTSTAMP:20260422T175607
CREATED:20250804T152639Z
LAST-MODIFIED:20250806T010928Z
UID:5253-1755338400-1755345600@mossar.org
SUMMARY:DAR Purple Heart Day
DESCRIPTION:The Honor of your Presence is requested at the \n\nTo honor those who were wounded or killed in action\nwhile serving in the U.S. military.\nWe are forever grateful for their\ncourage\, sacrifice\, commitment\, and heart. \nSaturday\, August 16\, 2025\, 10 a.m.\nRoslyn Heights\n128 Main Street\nBoonville\, MO\, 65233\nSee Map and Directions Below \nSponsored by the\nMissouri State Society Daughters of the American Revolution\nMissouri Society Sons of the American Revolution\nMissouri Department of the Military Order of the Purple Heart \nRefreshments will follow the ceremony.\nRoslyn Heights will be open for tours until 2 p.m.\nThe Gift Shop will be open until 2 p.m. \n Behind Every Heart is a Hero\nKindly RSVP to \nPatricia Hale\, (573) 821-3588 or pom@mssdar.org \n \n  \nPurple Heart Day Program – 08162025 \n 
URL:https://mossar.org/event/dar-purple-heart-day/
LOCATION:Roslyn Heights\, 821 Main Street\, Boonville\, MO\, 65233\, United States
CATEGORIES:Color Guard Event
END:VEVENT
BEGIN:VEVENT
DTSTART;TZID=America/Chicago:20250822T150000
DTEND;TZID=America/Chicago:20250823T170000
DTSTAMP:20260422T175607
CREATED:20250802T010041Z
LAST-MODIFIED:20250802T010313Z
UID:5246-1755874800-1755968400@mossar.org
SUMMARY:2025 South Central District Annual Meeting
DESCRIPTION:South Central District Annual Meeting\nFriday Afternoon\, August 22nd and Saturday\, August 23rd\, 2025\nHosted in Owasso\, Oklahoma\n• Plan to arrive before 3 pm and get your credentials at the Hotel\n• Attend the Candidates Forum and dinner at the Folds of Honor HQ\n• Saturday: Breakfast\, Dedication Ceremony and SCD Business Meeting on Saturday at the\nFolds of Honor HQ \nPlease use the link below to make your room reservation at the Hampton Inn & Suites Tulsa\nNorth/Owasso. Once on the site\, pick which room set up you would like (Single King or Double\nQueen)\, SAR room rate is built in. Complete the booking by populating your info and payment.\nParking is free. \nAvailable Rooms – Hampton Inn & Suites Tulsa North/Owasso \nMake your plans and book your room now. Registration packets will be sent out in June for the\nSCD Festivities. I hope to see you all at the Uncasville Congress at the Mohegan Sun Resort &\nCasino
URL:https://mossar.org/event/5246/
LOCATION:Hampton Inn & Suites Tulsa North/Owasso\, 9009 N 121st E Ave\, Owasso\, OK\, 74055\, United States
CATEGORIES:Meeting
ATTACH;FMTTYPE=image/jpeg:https://mossar.org/wp-content/uploads/2025/08/SCD-Meeting.jpg
END:VEVENT
BEGIN:VEVENT
DTSTART;TZID=America/Chicago:20251025T100000
DTEND;TZID=America/Chicago:20251025T120000
DTSTAMP:20260422T175607
CREATED:20250901T161700Z
LAST-MODIFIED:20250926T162209Z
UID:5348-1761386400-1761393600@mossar.org
SUMMARY:MOSSAR Board of Directors Meeting
DESCRIPTION:Missouri Society Sons of the American Revolution will hold its Quarterly Board of Directors Meeting at Jefferson Bank\, in Jefferson City\, MO at 10:00AM on Saturday\, October 25\, 2025.  All members of the Society are cordially invited to attend. \nView Officer\, Chapter and Committee Reports Here as they are Submitted
URL:https://mossar.org/event/mossar-board-of-directors-meeting-4/
LOCATION:Jefferson Bank\, 700 Southwest Blvd\, Jefferson City\, MO\, 65101-2942\, United States
ORGANIZER;CN="MOSSAR":MAILTO:san-cannoneer@sarfdl.org
END:VEVENT
BEGIN:VEVENT
DTSTART;TZID=America/Chicago:20260131T100000
DTEND;TZID=America/Chicago:20260131T120000
DTSTAMP:20260422T175607
CREATED:20240627T211345Z
LAST-MODIFIED:20260108T194643Z
UID:2348-1769853600-1769860800@mossar.org
SUMMARY:MOSSAR Board of Directors Meeting
DESCRIPTION:Missouri Society Sons of the American Revolution will hold its Quarterly Board of Directors Meeting at Jefferson Bank\, in Jefferson City\, MO at 10:00AM on Saturday\, January 31\, 2026.  All members of the Society are cordially invited to attend. \nView Officer\, Chapter and Committee Reports Here as they are Submitted
URL:https://mossar.org/event/mossar-board-of-directors-meeting/
LOCATION:Jefferson Bank\, 700 Southwest Blvd\, Jefferson City\, MO\, 65101-2942\, United States
CATEGORIES:Meeting
ATTACH;FMTTYPE=image/png:https://mossar.org/wp-content/uploads/2024/07/Website-MOSSAR-Logo.png
ORGANIZER;CN="MOSSAR":MAILTO:san-cannoneer@sarfdl.org
END:VEVENT
BEGIN:VEVENT
DTSTART;TZID=America/Chicago:20260325T130000
DTEND;TZID=America/Chicago:20260325T150000
DTSTAMP:20260422T175607
CREATED:20260222T173615Z
LAST-MODIFIED:20260223T012831Z
UID:5799-1774443600-1774450800@mossar.org
SUMMARY:National Medal of Honor Day
DESCRIPTION:Event: National Medal of Honor Day \nDate:  Wednesday\, March 25\, 2026 \nMuster Call:  11:45 AM \nEvent Time:     1:00 PM \nLocation:  Harry S Truman Museum and Library\, 500 W US-24\, Independence MO 64050 \n \nPOC: Ivan Stull  \nCG Commander POC: 
URL:https://mossar.org/event/national-medal-of-honor-day/
LOCATION:Harry S. Truman Museum and Library\, 500 W US-24\, Independence\, MO\, 64050\, United States
CATEGORIES:Color Guard Event
ATTACH;FMTTYPE=image/jpeg:https://mossar.org/wp-content/uploads/2026/02/medal-of-honor-3121876203.jpg
END:VEVENT
BEGIN:VEVENT
DTSTART;TZID=America/Chicago:20260328T130000
DTEND;TZID=America/Chicago:20260328T160000
DTSTAMP:20260422T175607
CREATED:20260211T135623Z
LAST-MODIFIED:20260211T135954Z
UID:5781-1774702800-1774713600@mossar.org
SUMMARY:Genealogy Seminar
DESCRIPTION:Genealogy Seminar \n \nRegister Here:  https://slcl.org/events-classes
URL:https://mossar.org/event/genealogy-seminar/
LOCATION:Clark Family Branch Library – St. Louis\, 1640 S. Lindburgh Blvd\, St. Louis\, MO\, 63131\, United States
END:VEVENT
BEGIN:VEVENT
DTSTART;TZID=America/Chicago:20260424T150000
DTEND;TZID=America/Chicago:20260425T220000
DTSTAMP:20260422T175607
CREATED:20260210T214242Z
LAST-MODIFIED:20260420T195559Z
UID:5758-1777042800-1777154400@mossar.org
SUMMARY:2026 MOSSAR Annual Convention
DESCRIPTION:2026 Missouri Society SAR Annual Convention\nHosted by the Ozark Mountain Chapter \n \n If you are using an Apple product (computer or iPhone)\, you will need Adobe Acrobat Reader to properly use the PDF form.  Also\, if you have a lesser known email address (a work email\, fastmail\, proton\, etc.)\, the system will not recognize them. You must use a well known email system (hotmail\, gmail\, yahoo\, etc)\, or open your email system\, and attach the form. \nYou can download Acrobat Reader at:   https://get.adobe.com/reader/ \nThen make sure Acrobat Reader is the default PDF viewer. \nHotel reservations are now available. Click on the link: \nhttps://upspringfield.ihotelier.com/book/dates-of-stay?groupID=4284373 or call them at: \n+1 417.864.7333 and tell them it is for the SAR Conference. \nThe University Plaza Hotel address is:  333 South John Q Hammons Parkway\, Springfield\, MO 65806 \nApple users\, please read the instruction page below. \nREGISTRATION CLOSES APRIL 10 \nIF YOU REGISTER AFTER APRIL 10\, THE REGISTRATION FEE WILL GO FROM $55.00 TO $75.00. \nPlease save your registration form first\, then pay for your registration. Next\, go to your document on your computer/device\, then open the form on your computer/device to email and print the form. \n\n\n\nRegistration Instructions for Apple Users (pdf) \nDownload \n\n\n\n\n2026 Registration Form (pdf) \nDownload \n\n\n\n\nFriday Color Guard Events (pdf) \nDownload \n\n\n\n\nUniversity Plaza Hotel (pdf) \nDownload \nAgenda (pdf) \nDownload
URL:https://mossar.org/event/2026-mossar-annual-convention/
LOCATION:The University Plaza Hotel\, 333 South John Q Hammons Parkway\, Springfield\, MO\, 65806\, United States
CATEGORIES:Meeting
ATTACH;FMTTYPE=image/jpeg:https://mossar.org/wp-content/uploads/2026/02/Untitled.jpg
END:VEVENT
BEGIN:VEVENT
DTSTART;TZID=America/Chicago:20260530T110000
DTEND;TZID=America/Chicago:20260530T123000
DTSTAMP:20260422T175607
CREATED:20260115T174059Z
LAST-MODIFIED:20260115T174234Z
UID:5729-1780138800-1780144200@mossar.org
SUMMARY:Private Leonard Welker Grave Marking
DESCRIPTION:
URL:https://mossar.org/event/private-leonard-welker-grave-marking/
LOCATION:Old Salem Cemetery\, 547 Co Rd 478\, Millersville\, MO\, 63766\, United States
CATEGORIES:Grave Marking
END:VEVENT
BEGIN:VEVENT
DTSTART;TZID=America/Chicago:20260531T110000
DTEND;TZID=America/Chicago:20260531T143000
DTSTAMP:20260422T175607
CREATED:20250926T162615Z
LAST-MODIFIED:20260302T223922Z
UID:5497-1780225200-1780237800@mossar.org
SUMMARY:2026 Battle of Fort San Carlos Festival and Grave Marking
DESCRIPTION:Registration is now open!!\n\n\n\nIf you prefer to mail in your registration\, please download the pdf form here.\n  \n \n*Be sure to Register and be sure that Color Guard Members firing Muskets have a current Color Guard Participation – Waiver & Release of Liability for the Year of 1 Jan – 31 Dec\, 2026 on file with the Missouri Society SAR Color Guard Commander \nColor Guard Participation Form \n  \nIf you plan on attending and wish to receive credit for the Grave Marking Medal\, please pre-register so we may have some idea who will be participating ahead of the event. If you already sent a check\, it will be refunded to you at the event. If you prefer not to receive a refund\, your gift will be designated to the MOSSAR Ladies Auxiliary. \nTo Donate to the event\, please click on this form to contact the MOSSAR State Treasurer:  https://mossar.org/endowments/donate-to-mossar/donate-to-mossar-form/\n  \nThe weekend at Ste. Genevieve is full of events.\n  \nHere is the map and schedule for the SG 250th\commemoration event. Of all of you are invited to the festival Saturday as well and I hope to see most of you\, there’s a lot of great stuff happening Saturday. St Charles Drum and Fife will be on hand all day and a horse drawn wagon that free to ride around the event square and a 18th outdoor ball with live quartet Saturday evening at 6pm til 8pm ending with fireworks! \n\n	\n					\n							\n				\n					Map for SG 250 event\n											https://mossar.org/wp-content/uploads/bfi_thumb/Map-for-SG-250-event-scaled-3olhseh0i2n6eqy4hu2z2i.png\n										 \n																		\n															\n							\n				\n					Map backside for SG 250 event\n											https://mossar.org/wp-content/uploads/bfi_thumb/Map-backside-for-SG-250-event-scaled-3olhsid8l560k935fotatm.png\n										 \n																		\n															\n							\n				\n					Fashion Show Flyer\n											https://mossar.org/wp-content/uploads/bfi_thumb/fashion-show-flyer-scaled-3olhsguyhmrr7o4otalfka.png\n										 \n																		\n															\n							\n				\n					Interpetor Ball Invite\n											https://mossar.org/wp-content/uploads/bfi_thumb/interpetor-ball-invite-scaled-3olhsflq2pfvf6nyymqvii.png\n										 \n																		\n															\n						\n	\n	\n			\n		\n														Previous Image\n						\n											Next Image\n						\n			\n				info heading\n				info content \n			\n		\n		\n			\n	\n	\n					\n  \n 
URL:https://mossar.org/event/5497/
LOCATION:Memorial Cemetery\, 35 N 5th St\, Ste. Genevieve\, MO\, 63670\, United States
CATEGORIES:Color Guard Event,Grave Marking
ORGANIZER;CN="MOSSAR":MAILTO:san-cannoneer@sarfdl.org
END:VEVENT
BEGIN:VEVENT
DTSTART;VALUE=DATE:20260613
DTEND;VALUE=DATE:20260614
DTSTAMP:20260422T175607
CREATED:20260211T144351Z
LAST-MODIFIED:20260211T144611Z
UID:5788-1781308800-1781395199@mossar.org
SUMMARY:America250 Celebration
DESCRIPTION:  \n  \n 
URL:https://mossar.org/event/america250-celebration/
LOCATION:Watson Trail Park\, 12450 W Watson Rd\, St. Louis\, MO\, 63127\, United States
CATEGORIES:Ameerica250 Celebration
ORGANIZER;CN="Spirit of St. Souis Chapter":MAILTO:ronaldleehack@gmail.com
END:VEVENT
BEGIN:VEVENT
DTSTART;TZID=America/Chicago:20260614T123000
DTEND;TZID=America/Chicago:20260614T223000
DTSTAMP:20260422T175607
CREATED:20260420T194339Z
LAST-MODIFIED:20260420T194339Z
UID:5977-1781440200-1781476200@mossar.org
SUMMARY:Manchester Celebrates America 250
DESCRIPTION:This year marks America’s 250th birthday\, and the City of Manchester is joining the celebration with a full slate of events\, activities and commemorative merchandise. \nManchester Celebrates America 250 Speaker Series \nLearn about our nation’s founding history and explore ways to research and preserve your own family’s story. All events take place at the Manchester Parks Building\, 359 Old Meramec Station Rd. Register for these events at manchestermo.gov/registernow. \n \nhttps://www.manchestermo.gov/1401/Manchester-Celebrates-America-250 \n  \nManchester Celebrates America 250 \nHead to Schroeder Park on Sunday\, June 14 for an all day celebration of America’s 250th birthday. \n  \n\n\n\n\n\n\n\n\nTime and Location\nEvent\nDescription\n\n\n\n12:30 p.m.\nSchroeder Park Flag Pole\nFlag Raising Ceremony featuring Sons of the American Revolution (SAR) Color Guard\n\n\n\n\n1-3 p.m.\nSchroeder Park Ball Field\n19th Century Baseball Game\nfeaturing Lafayette Square Cyclones and St. Louis Brown Stockings\nCatch a game of America’s Pastime played under rules of the 1860’s\, where there were no gloves\, pitchers threw underhand\, and swung bats that had the weight of telephone poles.\n\n\n1-3 p.m.\nBaseball Snacks\nPurchase peanuts\, Cracker Jack and other ball park favorites while catching the 19th Century baseball game.\n\n\n1-3 p.m.\nSchroeder Park Pavilion 1\nLineage Stories featuring Daughters of the American Revolution (DAR) Reenactors\n\n\n\n\n2-7 p.m.\nDaughters of the American Revolution (DAR) Reenactors\n\n\n\n\n2-7 p.m.\nParks Building Parking Lot\nBoots/Tents/Tables/Vendors\n\n\n\n\n2-7 p.m.\nSchroeder Park Parking Lot\nSt. Louis County Library Bookmobile\n\n\n\n\n2-7 p.m.\nSchroeder Park Pavilion 2\nHistoric Artisans\n\n\n\n\n2-7 p.m.\nParks Building Parking Lot\nWishing Wall\nWrite your wish for Manchester’s next 250 years and add it to our community display.\n\n\n2-3 p.m.\nParks Building\nMusic – James Labit and Sue Toben\n\n\n\n\n3 p.m.\nParks Building\nFamily History Speaker – Founding American Virtues\nWhat are the virtues of our Founding Fathers?  SLCC professor Sahar Joakim Resch\, Ph.D.\, explores the origins of America’s core values and the virtues that shaped the nation.\n\n\n4 p.m.\nParks Building\nFamily History Speaker – Battle of St. Louis (Battle of Fort San Carlos)\nHear the 1780 story of the British attack on the village of St. Louis and the defense to save the town and keep the British from taking control of the MIssissippi RIver during the American Revolution.\n\n\n5 p.m.\nParks Building\nFamily History Speaker – John Hundley\nA presentation outlining the documented Revolutionary War service of Hundley’s 46 patriot ancestors\, emphasizing their military roles\, public service contributions\, and the genealogical evidence used to verify each lineage.\n\n\n5:45 p.m.\nParks Building\nFamily History Speaker – James Labit\n\n\n\n\n4-5:30 p.m.\nSchroeder Park Pavilion 1\nMusic – Padre and the Pulse\n\n\n\n\n6:30-8:30 p.m.\nSchroeder Park Amphitheater\nMusic – Manchester Community Band presents America 250\nMade up of local residents\, the volunteer band will entertain the crowd with a variety of patriotic melodies.\n\n\n8:30-9:15 p.m.\nSchroeder Park Amphitheater\nJohn and Abigail Adams Performance\n\n\n\n\n9:15 p.m.\nSchroeder Park\nAmerica 250 Fireworks\nCap off the evening by celebrating America’s semisequicentennial with a patriotic fireworks display.\n\n\n\n 
URL:https://mossar.org/event/manchester-celebrates-america-250/
LOCATION:Schroeder Park – Manchester\, Missouri\, 359 Old Meramec Station Rd\, Manchester\, MO\, 63021\, United States
END:VEVENT
END:VCALENDAR