BEGIN:VCALENDAR
VERSION:2.0
PRODID:-//Missouri Society, SAR - ECPv6.15.20//NONSGML v1.0//EN
CALSCALE:GREGORIAN
METHOD:PUBLISH
X-ORIGINAL-URL:https://mossar.org
X-WR-CALDESC:Events for Missouri Society, SAR
REFRESH-INTERVAL;VALUE=DURATION:PT1H
X-Robots-Tag:noindex
X-PUBLISHED-TTL:PT1H
BEGIN:VTIMEZONE
TZID:America/Chicago
BEGIN:DAYLIGHT
TZOFFSETFROM:-0600
TZOFFSETTO:-0500
TZNAME:CDT
DTSTART:20240310T080000
END:DAYLIGHT
BEGIN:STANDARD
TZOFFSETFROM:-0500
TZOFFSETTO:-0600
TZNAME:CST
DTSTART:20241103T070000
END:STANDARD
BEGIN:DAYLIGHT
TZOFFSETFROM:-0600
TZOFFSETTO:-0500
TZNAME:CDT
DTSTART:20250309T080000
END:DAYLIGHT
BEGIN:STANDARD
TZOFFSETFROM:-0500
TZOFFSETTO:-0600
TZNAME:CST
DTSTART:20251102T070000
END:STANDARD
BEGIN:DAYLIGHT
TZOFFSETFROM:-0600
TZOFFSETTO:-0500
TZNAME:CDT
DTSTART:20260308T080000
END:DAYLIGHT
BEGIN:STANDARD
TZOFFSETFROM:-0500
TZOFFSETTO:-0600
TZNAME:CST
DTSTART:20261101T070000
END:STANDARD
END:VTIMEZONE
BEGIN:VEVENT
DTSTART;TZID=America/Chicago:20250221T183000
DTEND;TZID=America/Chicago:20250222T120000
DTSTAMP:20260422T150459
CREATED:20250201T211538Z
LAST-MODIFIED:20250201T211538Z
UID:4854-1740162600-1740225600@mossar.org
SUMMARY:George Washington Birthday Celebration and Martha Washington Ball
DESCRIPTION:Celebrating George Washington’s 293rd birthday\n\nCome help the  Sons of the American Revolution as they host a celebration of our first President’s 293rd birthday.  The Sons of the American Revolution invite members of the Daughters of the American Revolution\, and the Children of the American Revolution and the general public to come together with them to listen to our speaker and make presentations honoring members of our community.  \nCome early\, at 11:00 am\, and enjoy bidding on one\, or several\, of the Gift Baskets in the Silent Auction and visit with our guests and honorees \nDuring the Program after you have enjoyed a nice lunch\, you can take part in fellowship with friends. \nMartha Washington Ball\n\n Come dance\, party and socialize with George and Martha Washington  \non Friday\, Feb. 21 evening.  This is a new event for this year. Come as your are or in period dress. \nYou will have fun! Learn More. \n\nRegistration is now open: \n\n\n\n\n\nOnline Registration\n\n\n\nRegistration and payment IS LIVE FOR 2025\n\nTo register on line click here \n\n\n\n\n\n\n\n\n\n\n\n\n\n\nMail in Registration \n\n\n\nRegistration form for those paying by check\n\nDownload form \n\n\n\n\n\n\n\n\n\n\n\n\n\n\nMore Information?  Go to the website:  https://gwbckansascity.org/
URL:https://mossar.org/event/george-washington-birthday-celebration-and-martha-washington-ball/
LOCATION:Hilton Garden Inn – Independece\, 19677 East Jackson Drive\, Independence\, MO\, 65057\, United States
CATEGORIES:Color Guard Event
ATTACH;FMTTYPE=image/png:https://mossar.org/wp-content/uploads/2025/02/GW-Birthday-Script.png
ORGANIZER;CN="George Washington Birthday Celebration Committee":MAILTO:rhutchinson@comcast.net
END:VEVENT
END:VCALENDAR